BEGIN:VCALENDAR
VERSION:2.0
PRODID:-//Connecticut Horticultural Society - ECPv6.15.20//NONSGML v1.0//EN
CALSCALE:GREGORIAN
METHOD:PUBLISH
X-ORIGINAL-URL:https://cthort.org
X-WR-CALDESC:Events for Connecticut Horticultural Society
REFRESH-INTERVAL;VALUE=DURATION:PT1H
X-Robots-Tag:noindex
X-PUBLISHED-TTL:PT1H
BEGIN:VTIMEZONE
TZID:America/New_York
BEGIN:DAYLIGHT
TZOFFSETFROM:-0500
TZOFFSETTO:-0400
TZNAME:EDT
DTSTART:20240310T070000
END:DAYLIGHT
BEGIN:STANDARD
TZOFFSETFROM:-0400
TZOFFSETTO:-0500
TZNAME:EST
DTSTART:20241103T060000
END:STANDARD
BEGIN:DAYLIGHT
TZOFFSETFROM:-0500
TZOFFSETTO:-0400
TZNAME:EDT
DTSTART:20250309T070000
END:DAYLIGHT
BEGIN:STANDARD
TZOFFSETFROM:-0400
TZOFFSETTO:-0500
TZNAME:EST
DTSTART:20251102T060000
END:STANDARD
BEGIN:DAYLIGHT
TZOFFSETFROM:-0500
TZOFFSETTO:-0400
TZNAME:EDT
DTSTART:20260308T070000
END:DAYLIGHT
BEGIN:STANDARD
TZOFFSETFROM:-0400
TZOFFSETTO:-0500
TZNAME:EST
DTSTART:20261101T060000
END:STANDARD
END:VTIMEZONE
BEGIN:VEVENT
DTSTART;VALUE=DATE:20250909
DTEND;VALUE=DATE:20250920
DTSTAMP:20260419T204504
CREATED:20241029T032252Z
LAST-MODIFIED:20241029T035746Z
UID:10000141-1757376000-1758326399@cthort.org
SUMMARY:Gardens of Southern Italy and the Amalfi Coast • September 9-19\, 2025
DESCRIPTION:Wow\, this trip looks just amazing!\nGardens of Southern Italy the Amalfi Coast – Cole Burrell – Final Flyer\nJoin Garden and Nature Tours with C. Colston Burrell\, local guide Guido Gambone\, Friendship Tours and Minnesota State Horticulture Society in Naples\, Italy to begin exploring both iconic and personal gardens in the historic cities\, charming towns and sublime landscapes of Southern Italy and the Amalfi Coast. This bucket-list trip offers exciting opportunities for exploration\, discovery and enjoyment. \nTravel with C. Colston Burrell and Guido Gambone along stunning coastlines above azure waters of the Mediterranean to discover the rich history\, private gardens\, grand villas\, and sumptuous cuisine of Southern Italy and the Amalfi Coast! \nWe begin by exploring the ruins of Pompeii and discovering the charms of Sorrento\, Salerno and Naples\, including markets\, churches\, cathedrals\, artisan shops\, and outdoor cafes. \nOur journey includes visits to Giardino della Minerva\, Villa Cimbrone\, Villa Rufalo and more. On the Isles of Ischia and Capri\, we visit Giardini la Mortella\, Villa Jasmine\, and Villa San Michele. The ruins at Gardens of Ninfa are a fantasyland awaiting discovery. In Rome we visit two iconic gardens\, Villa d’Este and Villa Borghese. \nStunning scenery\, glorious gardens\, delicious meals and warm companionship await. This is a popular tour so register early. \nSee you in Naples!
URL:https://cthort.org/event/gardens-of-southern-italy-and-the-amalfi-coast-september-9-19-2025/
LOCATION:CT
CATEGORIES:Trips
ATTACH;FMTTYPE=image/png:https://cthort.org/wp-content/uploads/2024/10/Screenshot-2024-10-28-at-7.17.02 PM.png
END:VEVENT
END:VCALENDAR