BEGIN:VCALENDAR
VERSION:2.0
PRODID:-//Connecticut Horticultural Society - ECPv6.15.20//NONSGML v1.0//EN
CALSCALE:GREGORIAN
METHOD:PUBLISH
X-ORIGINAL-URL:https://cthort.org
X-WR-CALDESC:Events for Connecticut Horticultural Society
REFRESH-INTERVAL;VALUE=DURATION:PT1H
X-Robots-Tag:noindex
X-PUBLISHED-TTL:PT1H
BEGIN:VTIMEZONE
TZID:UTC
BEGIN:STANDARD
TZOFFSETFROM:+0000
TZOFFSETTO:+0000
TZNAME:UTC
DTSTART:20240101T000000
END:STANDARD
END:VTIMEZONE
BEGIN:VEVENT
DTSTART;TZID=UTC:20250204T193000
DTEND;TZID=UTC:20250204T200000
DTSTAMP:20260422T144618
CREATED:20240528T215542Z
LAST-MODIFIED:20240528T222357Z
UID:10000124-1738697400-1738699200@cthort.org
SUMMARY:February Board Meeting
DESCRIPTION:Broadcast via Zoom.
URL:https://cthort.org/event/february-board-meeting-3/
CATEGORIES:Board Meetings
ATTACH;FMTTYPE=image/png:https://cthort.org/wp-content/uploads/2024/05/board-meeting-logo-e1716920404590.png
END:VEVENT
END:VCALENDAR