BEGIN:VCALENDAR
VERSION:2.0
PRODID:-//Connecticut Horticultural Society - ECPv6.15.20//NONSGML v1.0//EN
CALSCALE:GREGORIAN
METHOD:PUBLISH
X-ORIGINAL-URL:https://cthort.org
X-WR-CALDESC:Events for Connecticut Horticultural Society
REFRESH-INTERVAL;VALUE=DURATION:PT1H
X-Robots-Tag:noindex
X-PUBLISHED-TTL:PT1H
BEGIN:VTIMEZONE
TZID:America/New_York
BEGIN:DAYLIGHT
TZOFFSETFROM:-0500
TZOFFSETTO:-0400
TZNAME:EDT
DTSTART:20250309T070000
END:DAYLIGHT
BEGIN:STANDARD
TZOFFSETFROM:-0400
TZOFFSETTO:-0500
TZNAME:EST
DTSTART:20251102T060000
END:STANDARD
BEGIN:DAYLIGHT
TZOFFSETFROM:-0500
TZOFFSETTO:-0400
TZNAME:EDT
DTSTART:20260308T070000
END:DAYLIGHT
BEGIN:STANDARD
TZOFFSETFROM:-0400
TZOFFSETTO:-0500
TZNAME:EST
DTSTART:20261101T060000
END:STANDARD
BEGIN:DAYLIGHT
TZOFFSETFROM:-0500
TZOFFSETTO:-0400
TZNAME:EDT
DTSTART:20270314T070000
END:DAYLIGHT
BEGIN:STANDARD
TZOFFSETFROM:-0400
TZOFFSETTO:-0500
TZNAME:EST
DTSTART:20271107T060000
END:STANDARD
END:VTIMEZONE
BEGIN:VEVENT
DTSTART;TZID=America/New_York:20260113T190000
DTEND;TZID=America/New_York:20260113T200000
DTSTAMP:20260419T082211
CREATED:20250624T215637Z
LAST-MODIFIED:20250826T200713Z
UID:10000156-1768330800-1768334400@cthort.org
SUMMARY:Board Meeting
DESCRIPTION:
URL:https://cthort.org/event/board-meeting-4/
CATEGORIES:Board Meetings
ATTACH;FMTTYPE=image/png:https://cthort.org/wp-content/uploads/2024/05/board-meeting-logo-e1716920404590.png
END:VEVENT
BEGIN:VEVENT
DTSTART;TZID=America/New_York:20260210T190000
DTEND;TZID=America/New_York:20260210T200000
DTSTAMP:20260419T082211
CREATED:20250624T215829Z
LAST-MODIFIED:20250826T200818Z
UID:10000157-1770750000-1770753600@cthort.org
SUMMARY:Board Meeting
DESCRIPTION:
URL:https://cthort.org/event/board-meeting-5/
CATEGORIES:Board Meetings
ATTACH;FMTTYPE=image/png:https://cthort.org/wp-content/uploads/2024/05/board-meeting-logo-e1716920404590.png
END:VEVENT
BEGIN:VEVENT
DTSTART;TZID=America/New_York:20260310T190000
DTEND;TZID=America/New_York:20260310T200000
DTSTAMP:20260419T082211
CREATED:20250624T215939Z
LAST-MODIFIED:20250826T200918Z
UID:10000158-1773169200-1773172800@cthort.org
SUMMARY:Board Meeting
DESCRIPTION:
URL:https://cthort.org/event/board-meeting-6/
CATEGORIES:Board Meetings
ATTACH;FMTTYPE=image/png:https://cthort.org/wp-content/uploads/2024/05/board-meeting-logo-e1716920404590.png
END:VEVENT
BEGIN:VEVENT
DTSTART;TZID=America/New_York:20260414T190000
DTEND;TZID=America/New_York:20260414T200000
DTSTAMP:20260419T082211
CREATED:20250624T220128Z
LAST-MODIFIED:20250826T201017Z
UID:10000159-1776193200-1776196800@cthort.org
SUMMARY:Board Meeting
DESCRIPTION:
URL:https://cthort.org/event/board-meeting-7/
CATEGORIES:Board Meetings
ATTACH;FMTTYPE=image/png:https://cthort.org/wp-content/uploads/2024/05/board-meeting-logo-e1716920404590.png
END:VEVENT
BEGIN:VEVENT
DTSTART;TZID=America/New_York:20260512T190000
DTEND;TZID=America/New_York:20260512T200000
DTSTAMP:20260419T082211
CREATED:20250624T221033Z
LAST-MODIFIED:20250826T201131Z
UID:10000161-1778612400-1778616000@cthort.org
SUMMARY:Board Meetings
DESCRIPTION:
URL:https://cthort.org/event/board-meetings/
CATEGORIES:Board Meetings
ATTACH;FMTTYPE=image/png:https://cthort.org/wp-content/uploads/2024/05/board-meeting-logo-e1716920404590.png
END:VEVENT
BEGIN:VEVENT
DTSTART;TZID=America/New_York:20260609T190000
DTEND;TZID=America/New_York:20260609T200000
DTSTAMP:20260419T082211
CREATED:20250624T220328Z
LAST-MODIFIED:20250826T201225Z
UID:10000160-1781031600-1781035200@cthort.org
SUMMARY:Board Meeting
DESCRIPTION:
URL:https://cthort.org/event/board-meeting-8/
CATEGORIES:Board Meetings
ATTACH;FMTTYPE=image/png:https://cthort.org/wp-content/uploads/2024/05/board-meeting-logo-e1716920404590.png
END:VEVENT
END:VCALENDAR