BEGIN:VCALENDAR
VERSION:2.0
PRODID:-//Connecticut Horticultural Society - ECPv6.15.20//NONSGML v1.0//EN
CALSCALE:GREGORIAN
METHOD:PUBLISH
X-ORIGINAL-URL:https://cthort.org
X-WR-CALDESC:Events for Connecticut Horticultural Society
REFRESH-INTERVAL;VALUE=DURATION:PT1H
X-Robots-Tag:noindex
X-PUBLISHED-TTL:PT1H
BEGIN:VTIMEZONE
TZID:America/New_York
BEGIN:DAYLIGHT
TZOFFSETFROM:-0500
TZOFFSETTO:-0400
TZNAME:EDT
DTSTART:20240310T070000
END:DAYLIGHT
BEGIN:STANDARD
TZOFFSETFROM:-0400
TZOFFSETTO:-0500
TZNAME:EST
DTSTART:20241103T060000
END:STANDARD
BEGIN:DAYLIGHT
TZOFFSETFROM:-0500
TZOFFSETTO:-0400
TZNAME:EDT
DTSTART:20250309T070000
END:DAYLIGHT
BEGIN:STANDARD
TZOFFSETFROM:-0400
TZOFFSETTO:-0500
TZNAME:EST
DTSTART:20251102T060000
END:STANDARD
BEGIN:DAYLIGHT
TZOFFSETFROM:-0500
TZOFFSETTO:-0400
TZNAME:EDT
DTSTART:20260308T070000
END:DAYLIGHT
BEGIN:STANDARD
TZOFFSETFROM:-0400
TZOFFSETTO:-0500
TZNAME:EST
DTSTART:20261101T060000
END:STANDARD
END:VTIMEZONE
BEGIN:VEVENT
DTSTART;TZID=America/New_York:20250118T100000
DTEND;TZID=America/New_York:20250118T120000
DTSTAMP:20260422T151101
CREATED:20241113T043514Z
LAST-MODIFIED:20250109T225221Z
UID:10000143-1737194400-1737201600@cthort.org
SUMMARY:SOLD OUT! Propagating Native Plants from Seed: Workshop with Jim Sirch Jan. 18
DESCRIPTION:Sold out!\nPlease stay in touch to learn about future workshops.\nPropagating Native Plants from Seed: Workshop with Jim Sirch\nDate and time: Sat\, Jan 18\, 2025 10:00 AM – 12:00 PM\nLocation: Zion Episcopal Church\, 326 Notch Hill Rd\, North Branford\nRegister here! \nIncluding native plants in your garden helps pollinators. Expand your native plantings by growing them yourself from seed. We will discover the germination requirements for different kinds of seeds. We’ll plant and bring home a plastic milk jug filled with a seed selection to stratify over the winter. Proper after care will be discussed. Bring a clear (translucent)\, one-gallon plastic milk or water jug; we will supply the soil and seeds. Jim Sirch is a CT Hort Board member\, master gardener\, and has just retired as the Education Coordinator at Yale Peabody Museum of Natural History.\nRegister here!
URL:https://cthort.org/event/propagating-native-plants-from-seed-workshop-with-jim-sirch-jan-18/
CATEGORIES:Workshops
ATTACH;FMTTYPE=image/jpeg:https://cthort.org/wp-content/uploads/2024/11/seed-workshop-scaled.jpg
END:VEVENT
END:VCALENDAR