BEGIN:VCALENDAR
VERSION:2.0
PRODID:-//Connecticut Horticultural Society - ECPv6.15.20//NONSGML v1.0//EN
CALSCALE:GREGORIAN
METHOD:PUBLISH
X-ORIGINAL-URL:https://cthort.org
X-WR-CALDESC:Events for Connecticut Horticultural Society
REFRESH-INTERVAL;VALUE=DURATION:PT1H
X-Robots-Tag:noindex
X-PUBLISHED-TTL:PT1H
BEGIN:VTIMEZONE
TZID:America/New_York
BEGIN:DAYLIGHT
TZOFFSETFROM:-0500
TZOFFSETTO:-0400
TZNAME:EDT
DTSTART:20230312T070000
END:DAYLIGHT
BEGIN:STANDARD
TZOFFSETFROM:-0400
TZOFFSETTO:-0500
TZNAME:EST
DTSTART:20231105T060000
END:STANDARD
BEGIN:DAYLIGHT
TZOFFSETFROM:-0500
TZOFFSETTO:-0400
TZNAME:EDT
DTSTART:20240310T070000
END:DAYLIGHT
BEGIN:STANDARD
TZOFFSETFROM:-0400
TZOFFSETTO:-0500
TZNAME:EST
DTSTART:20241103T060000
END:STANDARD
BEGIN:DAYLIGHT
TZOFFSETFROM:-0500
TZOFFSETTO:-0400
TZNAME:EDT
DTSTART:20250309T070000
END:DAYLIGHT
BEGIN:STANDARD
TZOFFSETFROM:-0400
TZOFFSETTO:-0500
TZNAME:EST
DTSTART:20251102T060000
END:STANDARD
END:VTIMEZONE
BEGIN:VEVENT
DTSTART;TZID=America/New_York:20240624T093000
DTEND;TZID=America/New_York:20240624T143000
DTSTAMP:20260423T060230
CREATED:20240611T195848Z
LAST-MODIFIED:20240611T195855Z
UID:10000129-1719221400-1719239400@cthort.org
SUMMARY:Fairfield County Nursery Tour
DESCRIPTION:Join us for a Fairfield County Nursery Tour\nLocation: Starts off at Oliver Nurseries\, 1159 Bronson Rd\, Fairfield\, CT\nDate and time: Mon\, Jun 24\, 2024 9:30 AM – 2:30 PM\n \nTake the day\, carpool with friends\, and enjoy a tour of three of Fairfield County’s finest\nnurseries. We’ll start at 9:30 am at Oliver Nurseries (1159 Bronson Rd.\, Fairfield)\, to explore and enjoy an alpine trough planting demonstration given by Lori Chips. Then it’s off to Gilbertie’s Herbs & Garden Center (7 Sylvan Lane\, Westport)\, to visit the largest herb plant grower on the East Coast. Next up is Terrain (561 Post Rd. East\, Westport)\, where we’ll shop the wonderfully curated and displayed collection of nature-inspired items and grab lunch at the Terrain Cafe-or you can bring your own. \nCost: $10. Register now!
URL:https://cthort.org/event/fairfield-county-nursery-tour/
CATEGORIES:Trips,Workshops
ATTACH;FMTTYPE=image/png:https://cthort.org/wp-content/uploads/2024/06/logo-for-nursery-tour.png
END:VEVENT
END:VCALENDAR