BEGIN:VCALENDAR
VERSION:2.0
PRODID:-//Connecticut Horticultural Society - ECPv6.15.20//NONSGML v1.0//EN
CALSCALE:GREGORIAN
METHOD:PUBLISH
X-ORIGINAL-URL:https://cthort.org
X-WR-CALDESC:Events for Connecticut Horticultural Society
REFRESH-INTERVAL;VALUE=DURATION:PT1H
X-Robots-Tag:noindex
X-PUBLISHED-TTL:PT1H
BEGIN:VTIMEZONE
TZID:America/New_York
BEGIN:DAYLIGHT
TZOFFSETFROM:-0500
TZOFFSETTO:-0400
TZNAME:EDT
DTSTART:20250309T070000
END:DAYLIGHT
BEGIN:STANDARD
TZOFFSETFROM:-0400
TZOFFSETTO:-0500
TZNAME:EST
DTSTART:20251102T060000
END:STANDARD
BEGIN:DAYLIGHT
TZOFFSETFROM:-0500
TZOFFSETTO:-0400
TZNAME:EDT
DTSTART:20260308T070000
END:DAYLIGHT
BEGIN:STANDARD
TZOFFSETFROM:-0400
TZOFFSETTO:-0500
TZNAME:EST
DTSTART:20261101T060000
END:STANDARD
BEGIN:DAYLIGHT
TZOFFSETFROM:-0500
TZOFFSETTO:-0400
TZNAME:EDT
DTSTART:20270314T070000
END:DAYLIGHT
BEGIN:STANDARD
TZOFFSETFROM:-0400
TZOFFSETTO:-0500
TZNAME:EST
DTSTART:20271107T060000
END:STANDARD
END:VTIMEZONE
BEGIN:VEVENT
DTSTART;TZID=America/New_York:20260418T100000
DTEND;TZID=America/New_York:20260418T120000
DTSTAMP:20260419T214505
CREATED:20260415T205347Z
LAST-MODIFIED:20260415T205347Z
UID:10000347-1776506400-1776513600@cthort.org
SUMMARY:The AWE Program Budget Raised Bed Build Workshop
DESCRIPTION:Join us for a hands-on Budget Raised Bed Build with Travis Stewart of Farm With Me LLC. This interactive workshop approaches gardening through an affordability and accessibility lens\, showing participants how growing food can be practical\, low-cost\, and achievable for anyone. \nTogether\, we’ll build a raised garden bed using upcycled pallets and other inexpensive\, easy-to-find materials. Participants will work alongside the educator\, learning DIY techniques\, material sourcing tips\, and creative ways to reuse what you already have. Whether you’re new to gardening or looking for budget-friendly solutions\, this workshop will provide practical skills you can take home and replicate in your own space. \nThis is a free\, hands-on workshop focused on making gardening more accessible\, sustainable\, and community-driven. No experience necessary — just come ready to learn and build together.
URL:https://cthort.org/event/the-awe-program-budget-raised-bed-build-workshop/
LOCATION:183 Windsor Ave. Windsor\, CT 06095\, 183 Windsor Ave\, Windsor\, CT\, 06095\, United States
CATEGORIES:Community,Hartford County
ATTACH;FMTTYPE=image/jpeg:https://cthort.org/wp-content/uploads/2026/04/AWE-Raised-Bed-Updated.jpg
ORGANIZER;CN="Keney Park Sustainability Project":MAILTO:info@aweprograms.org
END:VEVENT
BEGIN:VEVENT
DTSTART;TZID=America/New_York:20260411T100000
DTEND;TZID=America/New_York:20260411T130000
DTSTAMP:20260419T214505
CREATED:20260331T154436Z
LAST-MODIFIED:20260331T154529Z
UID:10000322-1775901600-1775912400@cthort.org
SUMMARY:Prop & Swap Workshop
DESCRIPTION:The Prop & Swap Workshop will begin with a free\, short\, hands-on introduction to plant propagation and grafting\, designed for participants who are new to these techniques. During this mini-workshop\, attendees will learn simple\, approachable methods for multiplying plants and maintaining healthy growth. After the instructional portion\, participants will have the opportunity to trade plant cuttings and propagations they brought from home. Those who don’t have plants to share will still be able to take part by selecting from the propagations provided by KPSP. The event is designed to be welcoming and accessible\, encouraging participants to learn new skills while building community connections. By the end of the workshop\, participants will leave with new plants\, practical knowledge\, and connections with others interested in growing and sustainability.
URL:https://cthort.org/event/prop-swap-workshop/
LOCATION:183 Windsor Ave. Windsor\, CT 06095\, 183 Windsor Ave\, Windsor\, CT\, 06095\, United States
CATEGORIES:Community,Hartford County
ATTACH;FMTTYPE=image/png:https://cthort.org/wp-content/uploads/2026/03/AWE-Prop-Swap-Workshop.png
ORGANIZER;CN="Keney Park Sustainability Project":MAILTO:info@aweprograms.org
END:VEVENT
END:VCALENDAR