BEGIN:VCALENDAR
VERSION:2.0
PRODID:-//Connecticut Horticultural Society - ECPv6.15.20//NONSGML v1.0//EN
CALSCALE:GREGORIAN
METHOD:PUBLISH
X-WR-CALNAME:Connecticut Horticultural Society
X-ORIGINAL-URL:https://cthort.org
X-WR-CALDESC:Events for Connecticut Horticultural Society
REFRESH-INTERVAL;VALUE=DURATION:PT1H
X-Robots-Tag:noindex
X-PUBLISHED-TTL:PT1H
BEGIN:VTIMEZONE
TZID:America/New_York
BEGIN:DAYLIGHT
TZOFFSETFROM:-0500
TZOFFSETTO:-0400
TZNAME:EDT
DTSTART:20250309T070000
END:DAYLIGHT
BEGIN:STANDARD
TZOFFSETFROM:-0400
TZOFFSETTO:-0500
TZNAME:EST
DTSTART:20251102T060000
END:STANDARD
BEGIN:DAYLIGHT
TZOFFSETFROM:-0500
TZOFFSETTO:-0400
TZNAME:EDT
DTSTART:20260308T070000
END:DAYLIGHT
BEGIN:STANDARD
TZOFFSETFROM:-0400
TZOFFSETTO:-0500
TZNAME:EST
DTSTART:20261101T060000
END:STANDARD
BEGIN:DAYLIGHT
TZOFFSETFROM:-0500
TZOFFSETTO:-0400
TZNAME:EDT
DTSTART:20270314T070000
END:DAYLIGHT
BEGIN:STANDARD
TZOFFSETFROM:-0400
TZOFFSETTO:-0500
TZNAME:EST
DTSTART:20271107T060000
END:STANDARD
END:VTIMEZONE
BEGIN:VEVENT
DTSTART;TZID=America/New_York:20260508T190000
DTEND;TZID=America/New_York:20260508T200000
DTSTAMP:20260421T061820
CREATED:20260408T185842Z
LAST-MODIFIED:20260408T185842Z
UID:10000337-1778266800-1778270400@cthort.org
SUMMARY:Seeing Red (Why Friends Don’t Let Friends Plant Burning Bush)
DESCRIPTION:Nationwide\, three million acres are lost each year to non-native invasive plants. Removal is expensive & time-consuming. Learn what makes these plants so damaging and how gardeners can restore ecological balance to our neighborhoods. \nThis lecture is part of a series in memory of Marcia Reid Marsted.  The lecture series has been designed by the Roaring Brook Nature Center and presented in cooperation with Canton Public Library and the Gallery on the Green. \nFree Admission. Pre-registration preferred
URL:https://cthort.org/event/seeing-red-why-friends-dont-let-friends-plant-burning-bush/
LOCATION:70 Gracey Rd\, 70 Gracey Road\, Canton\, CT\, 06019
CATEGORIES:Community,Hartford County
ATTACH;FMTTYPE=image/jpeg:https://cthort.org/wp-content/uploads/2026/04/Cm2z9Rz7XE6xWRvnxbC7Cm.jpg
ORGANIZER;CN="Roaring Brook Nature Center":MAILTO:rbnc@thechildrensmuseumct.org
END:VEVENT
END:VCALENDAR